BEGIN:VCALENDAR
METHOD:PUBLISH
X-WR-TIMEZONE:America/New_York
PRODID:-//Hold My Ticket.//HMT Web App//EN
CALSCALE:GREGORIAN
METHOD:PUBLISH
X-WR-CALNAME:Terra Fermata
X-WR-CALDESC:Upcoming events at Terra Fermata
BEGIN:VTIMEZONE
TZID:America/New_York 
END:VTIMEZONE
BEGIN:VEVENT
SEQUENCE:2
TRANSP:OPAQUE
UID:a7574cced6310619d0bef139a625cb93
DTSTART:20260613T180000
DTSTAMP:20260121T120858Z
SUMMARY:KYLE SMITH with openers Joey Calderaio, Cariies
DESCRIPTION:Advance tickets $23.18 total cost. 

Get ready for a night of authentic Cali-Reggae live at Terra Fermata as Kyle Smith brings his high-energy blend of reggae, rock, ska, hip-hop, and punk-inspired sound to the Treasure Coast. Known for his heartfelt songwriting rooted in real-life experiences and catchy hooks that fans sing along to, Kyle's live show delivers uplifting vibes, dynamic performances, and a connection with the crowd that turns every venue into a celebration.
Joining Kyle on the bill are Joey Calderaio and Carries, adding their own unique sounds and energy to the night's lineup.
Whether you're a devoted fan of Cali-Reggae or just love live music with feel-good energy, this is one Friday night show you won't want to miss.
Tickets
$20 Presale
$25 at the Door
VIP Experience -- $100 (Limited)
Upgrade your night with a premium experience that brings you closer to the music and artist:
VIP includes:
• One General Admission ticket
• Private acoustic set (2-3 songs)
• Signed show poster
• VIP laminate
• KS merch bag
• Stickers
• Koozie
• Photo with Kyle
Experience the show in style and take home exclusive memorabilia.
Terra Fermata
Saturday, June 13
Grab your tickets early -- VIP is extremely limited.
CREATED:20260121T120858Z
URL;VALUE=URI:http://holdmyticket.com/event/457450 

DTEND:20260613T220000
END:VEVENT
END:VCALENDAR