BEGIN:VCALENDAR
METHOD:PUBLISH
X-WR-TIMEZONE:America/Denver
PRODID:-//Hold My Ticket.//HMT Web App//EN
CALSCALE:GREGORIAN
METHOD:PUBLISH
X-WR-CALNAME:Revel
X-WR-CALDESC:Upcoming events at Revel
BEGIN:VTIMEZONE
TZID:America/Denver 
END:VTIMEZONE
BEGIN:VEVENT
SEQUENCE:2
TRANSP:OPAQUE
UID:b375d54886d2e949a49d667275922057
DTSTART:20261104T200000
DTSTAMP:20260127T100010Z
SUMMARY:UB40
DESCRIPTION:
CREATED:20260127T100010Z
URL;VALUE=URI:http://holdmyticket.com/event/457509 

DTEND:20261104T230000
END:VEVENT
END:VCALENDAR