BEGIN:VCALENDAR
METHOD:PUBLISH
X-WR-TIMEZONE:America/Denver
PRODID:-//Hold My Ticket.//HMT Web App//EN
CALSCALE:GREGORIAN
METHOD:PUBLISH
X-WR-CALNAME:The Oriental Theater
X-WR-CALDESC:Upcoming events at The Oriental Theater
BEGIN:VTIMEZONE
TZID:America/Denver 
END:VTIMEZONE
BEGIN:VEVENT
SEQUENCE:2
TRANSP:OPAQUE
UID:57fddf051d3a6d73791c3af1317e14b2
DTSTART:20260520T190000
DTSTAMP:20260127T090009Z
SUMMARY:The Decibel Magazine Tour 2026
DESCRIPTION:
CREATED:20260127T090009Z
URL;VALUE=URI:http://holdmyticket.com/event/457658 

DTEND:20260520T230000
END:VEVENT
END:VCALENDAR