BEGIN:VCALENDAR
METHOD:PUBLISH
X-WR-TIMEZONE:America/Denver
PRODID:-//Hold My Ticket.//HMT Web App//EN
CALSCALE:GREGORIAN
METHOD:PUBLISH
X-WR-CALNAME:The Oriental Theater
X-WR-CALDESC:Upcoming events at The Oriental Theater
BEGIN:VTIMEZONE
TZID:America/Denver 
END:VTIMEZONE
BEGIN:VEVENT
SEQUENCE:2
TRANSP:OPAQUE
UID:746a9f8cc30f80425ad920dfd105cc85
DTSTART:20260808T200000
DTSTAMP:20260127T183513Z
SUMMARY:DoKnow & DaHawmies Comedy Tour 
DESCRIPTION:
CREATED:20260127T183513Z
URL;VALUE=URI:http://holdmyticket.com/event/457660 

DTEND:20260808T224500
END:VEVENT
END:VCALENDAR