BEGIN:VCALENDAR
METHOD:PUBLISH
X-WR-TIMEZONE:America/Denver
PRODID:-//Hold My Ticket.//HMT Web App//EN
CALSCALE:GREGORIAN
METHOD:PUBLISH
X-WR-CALNAME:Coda Club SpeakEasy (main venue)
X-WR-CALDESC:Upcoming events at Coda Club SpeakEasy (main venue)
BEGIN:VTIMEZONE
TZID:America/Denver 
END:VTIMEZONE
BEGIN:VEVENT
SEQUENCE:2
TRANSP:OPAQUE
UID:817402046eee99a307c5831167cdc62f
DTSTART:20260214T200000
DTSTAMP:20260213T000220Z
SUMMARY:The Crimson Fang Valentine's Ball
DESCRIPTION:An Immersive Valentine's Vampire Ball in Down Town Albuquerque!
JOIN US FOR THE BEST Dark Romance, Immortal Elegance and
SECRET VAMPIRE SPEAKEASY that the Duke City has to offer!
Enjoy CLASSIC 80s, 90s 2000s Goth & Darkwave. 
2 DRINKS INCLUDED WITH YOUR TICKET from our SIGNATURE DRINK MENU
Choice of premium spirits or non-alcoholic elixirs
(General Admission doors open at 7:30P)

VIPs RECEIVE even MORE~ MORE DRINK, MORE Immersion & 
3 SECRET VENUES (ALL within WALKING DISTANCE of each other)
Get Your "CRAWL IN THE SHADOWS" Experience NOW ~ SPACE IS LIMITED
(3 DRINKS and ADMISSION INCLUDED WITH YOUR VIP Ticket)
---->VIP EXPERIENCE STARTS AT 5P 
CREATED:20260213T000220Z
URL;VALUE=URI:http://holdmyticket.com/event/457830 

DTEND:20260214T230000
END:VEVENT
END:VCALENDAR