BEGIN:VCALENDAR
METHOD:PUBLISH
X-WR-TIMEZONE:America/Denver
PRODID:-//Hold My Ticket.//HMT Web App//EN
CALSCALE:GREGORIAN
METHOD:PUBLISH
X-WR-CALNAME:Lensic Performing Arts Center 
X-WR-CALDESC:Upcoming events at Lensic Performing Arts Center 
BEGIN:VTIMEZONE
TZID:America/Denver 
END:VTIMEZONE
BEGIN:VEVENT
SEQUENCE:2
TRANSP:OPAQUE
UID:4a4b1693b31054c4063678c0bd1d7975
DTSTART:20260514T193000
DTSTAMP:20260218T154943Z
SUMMARY:Ben Folds & A Piano
DESCRIPTION:
CREATED:20260218T154943Z
URL;VALUE=URI:http://holdmyticket.com/event/457839 

DTEND:20260514T230000
END:VEVENT
END:VCALENDAR