BEGIN:VCALENDAR
METHOD:PUBLISH
X-WR-TIMEZONE:America/Denver
PRODID:-//Hold My Ticket.//HMT Web App//EN
CALSCALE:GREGORIAN
METHOD:PUBLISH
X-WR-CALNAME:El Morro Theatre
X-WR-CALDESC:Upcoming events at El Morro Theatre
BEGIN:VTIMEZONE
TZID:America/Denver 
END:VTIMEZONE
BEGIN:VEVENT
SEQUENCE:2
TRANSP:OPAQUE
UID:cd575b4a7cc17d8afe6c89a9e4b41d49
DTSTART:20260426T143000
DTSTAMP:20260422T050629Z
SUMMARY:Antonio Reyna Celebrating 30 Years
DESCRIPTION:Celebrating 30 Years of Antonio Reyna: A Mariachi Anniversary Concert

Join us for an unforgettable evening honoring Antonio Reyna, one of New Mexico's most beloved and award-winning Mariachi vocalists, Mariachi Raices De America and Baile Ilusion as he celebrates 30 years of musical excellence. From intimate theaters to international festival stages, Antonio Reyna has captivated audiences across the Southwest, West Coast, and Mexico with his powerful voice, heartfelt interpretations, and deep respect for Mariachi tradition.

This anniversary concert is more than a performance--it is a journey through three decades of passion, perseverance, and cultural pride. Featuring selections from Antonio's seven award-winning studio albums, the program highlights beloved rancheras, romantic boleros, and iconic tributes to legends such as José Alfredo Jiménez and Lola Beltrán. Audiences will experience the songs that defined his career, alongside stories that shaped the artist and the man behind the music.

Known for sharing the stage with world-renowned Mariachi ensembles and earning the honor of "Hijo Adoptado de El Rosario" in Mexico, Antonio brings authenticity, elegance, and emotional depth to every performance. Accompanied by Mariachi Plata and special guest Baile Ilusion, this milestone concert celebrates heritage, family, and the enduring spirit of Mariachi music.

Antonio Reyna's 30th Anniversary Concert promises a moving, joyful, and culturally rich experience--one that honors tradition while continuing to inspire future generations
CREATED:20260422T050629Z
URL;VALUE=URI:http://holdmyticket.com/event/457897 

DTEND:20260426T170000
END:VEVENT
END:VCALENDAR