BEGIN:VCALENDAR
METHOD:PUBLISH
X-WR-TIMEZONE:America/Chicago
PRODID:-//Hold My Ticket.//HMT Web App//EN
CALSCALE:GREGORIAN
METHOD:PUBLISH
X-WR-CALNAME:Luckenbach Texas
X-WR-CALDESC:Upcoming events at Luckenbach Texas
BEGIN:VTIMEZONE
TZID:America/Chicago 
END:VTIMEZONE
BEGIN:VEVENT
SEQUENCE:2
TRANSP:OPAQUE
UID:70d16decc495c9efcecd38dff42a367b
DTSTART:20260531T130000
DTSTAMP:20260128T144816Z
SUMMARY:Texas Songwriters on the Rise
DESCRIPTION:
CREATED:20260128T144816Z
URL;VALUE=URI:http://holdmyticket.com/event/457954 

DTEND:20260531T170000
END:VEVENT
END:VCALENDAR