BEGIN:VCALENDAR
METHOD:PUBLISH
X-WR-TIMEZONE:America/Denver
PRODID:-//Hold My Ticket.//HMT Web App//EN
CALSCALE:GREGORIAN
METHOD:PUBLISH
X-WR-CALNAME:Egyptian Theatre
X-WR-CALDESC:Upcoming events at Egyptian Theatre
BEGIN:VTIMEZONE
TZID:America/Denver 
END:VTIMEZONE
BEGIN:VEVENT
SEQUENCE:2
TRANSP:OPAQUE
UID:2a88c22c45d8dcf0a24a52d5d5e1a0f3
DTSTART:20260417T200000
DTSTAMP:20260416T120638Z
SUMMARY:Park City Follies - Limited Public Seats Available!
DESCRIPTION:
CREATED:20260416T120638Z
URL;VALUE=URI:http://holdmyticket.com/event/457967 

DTEND:20260417T223000
END:VEVENT
END:VCALENDAR