BEGIN:VCALENDAR
METHOD:PUBLISH
X-WR-TIMEZONE:America/Denver
PRODID:-//Hold My Ticket.//HMT Web App//EN
CALSCALE:GREGORIAN
METHOD:PUBLISH
X-WR-CALNAME:Buffalo Rose
X-WR-CALDESC:Upcoming events at Buffalo Rose
BEGIN:VTIMEZONE
TZID:America/Denver 
END:VTIMEZONE
BEGIN:VEVENT
SEQUENCE:2
TRANSP:OPAQUE
UID:41b17afec77ca2e5d84366fb8c661797
DTSTART:20260501T190000
DTSTAMP:20260217T190218Z
SUMMARY:Stone Beat Invasion with Just A Girl
DESCRIPTION:
CREATED:20260217T190218Z
URL;VALUE=URI:http://holdmyticket.com/event/458022 

DTEND:20260501T230000
END:VEVENT
END:VCALENDAR