BEGIN:VCALENDAR
METHOD:PUBLISH
X-WR-TIMEZONE:America/Denver
PRODID:-//Hold My Ticket.//HMT Web App//EN
CALSCALE:GREGORIAN
METHOD:PUBLISH
X-WR-CALNAME:Buffalo Rose
X-WR-CALDESC:Upcoming events at Buffalo Rose
BEGIN:VTIMEZONE
TZID:America/Denver 
END:VTIMEZONE
BEGIN:VEVENT
SEQUENCE:2
TRANSP:OPAQUE
UID:f851b809a7dee2c7a1b3464220e9b6c8
DTSTART:20260724T190000
DTSTAMP:20260218T012600Z
SUMMARY:Micky and The Motorcars
DESCRIPTION:
CREATED:20260218T012600Z
URL;VALUE=URI:http://holdmyticket.com/event/458184 

DTEND:20260724T223000
END:VEVENT
END:VCALENDAR