BEGIN:VCALENDAR
METHOD:PUBLISH
X-WR-TIMEZONE:America/Denver
PRODID:-//Hold My Ticket.//HMT Web App//EN
CALSCALE:GREGORIAN
METHOD:PUBLISH
X-WR-CALNAME:St. Francis Auditorium at the New Mexico Museum of Art
X-WR-CALDESC:Upcoming events at St. Francis Auditorium at the New Mexico Museum of Art
BEGIN:VTIMEZONE
TZID:America/Denver 
END:VTIMEZONE
BEGIN:VEVENT
SEQUENCE:2
TRANSP:OPAQUE
UID:ecebd1cc85d7460fc055c8fc7e87942d
DTSTART:20260425T193000
DTSTAMP:20260218T110458Z
SUMMARY:Eric Henderson
DESCRIPTION:
CREATED:20260218T110458Z
URL;VALUE=URI:http://holdmyticket.com/event/458218 

DTEND:20260425T220000
END:VEVENT
END:VCALENDAR