BEGIN:VCALENDAR
METHOD:PUBLISH
X-WR-TIMEZONE:America/Denver
PRODID:-//Hold My Ticket.//HMT Web App//EN
CALSCALE:GREGORIAN
METHOD:PUBLISH
X-WR-CALNAME:Insideout
X-WR-CALDESC:Upcoming events at Insideout
BEGIN:VTIMEZONE
TZID:America/Denver 
END:VTIMEZONE
BEGIN:VEVENT
SEQUENCE:2
TRANSP:OPAQUE
UID:cfbddec41d22b8df274342ee8700f892
DTSTART:20260424T200000
DTSTAMP:20260304T124406Z
SUMMARY:Necrot * Suspended * Egregious * Shadow Worship
DESCRIPTION:* Necrot * Suspended * Egregious * Shadow Worship * 
Into The Labyrinth Tour 

Friday, April 24, 2026
Doors 7pm | Show 8pm
InsideOut
ABQ NM 
21+

Advance tickets - $17 + service charge
Ticket prices may increase day of show
https://www.facebook.com/events/1592449602088460
CREATED:20260304T124406Z
URL;VALUE=URI:http://holdmyticket.com/event/458221 

DTEND:20260424T230000
END:VEVENT
END:VCALENDAR