BEGIN:VCALENDAR
METHOD:PUBLISH
X-WR-TIMEZONE:America/Denver
PRODID:-//Hold My Ticket.//HMT Web App//EN
CALSCALE:GREGORIAN
METHOD:PUBLISH
X-WR-CALNAME:Sunshine Theater
X-WR-CALDESC:Upcoming events at Sunshine Theater
BEGIN:VTIMEZONE
TZID:America/Denver 
END:VTIMEZONE
BEGIN:VEVENT
SEQUENCE:2
TRANSP:OPAQUE
UID:11d153135bfcb41a9da2cc36c97b9b98
DTSTART:20260524T193000
DTSTAMP:20260313T092914Z
SUMMARY:Deicide * Immolation
DESCRIPTION:* Deicide * Immolation * 

Sunday, May 24, 2026
Doors 630pm | Show 730pm
Sunshine Theater 
ABQ NM 
all ages

Advance tickets - $27 + service charge
Ticket prices may increase day of show
https://www.facebook.com/events/1867437140608610

CREATED:20260313T092914Z
URL;VALUE=URI:http://holdmyticket.com/event/458364 

DTEND:20260524T223000
END:VEVENT
END:VCALENDAR