BEGIN:VCALENDAR
METHOD:PUBLISH
X-WR-TIMEZONE:America/Denver
PRODID:-//Hold My Ticket.//HMT Web App//EN
CALSCALE:GREGORIAN
METHOD:PUBLISH
X-WR-CALNAME:Meow Wolf
X-WR-CALDESC:Upcoming events at Meow Wolf
BEGIN:VTIMEZONE
TZID:America/Denver 
END:VTIMEZONE
BEGIN:VEVENT
SEQUENCE:2
TRANSP:OPAQUE
UID:84697c1187b32544550dcc3cd41dbce0
DTSTART:20260926T203000
DTSTAMP:20260401T110025Z
SUMMARY:Joshua Ray Walker
DESCRIPTION:
CREATED:20260401T110025Z
URL;VALUE=URI:http://holdmyticket.com/event/458371 

DTEND:20260926T230000
END:VEVENT
END:VCALENDAR