BEGIN:VCALENDAR
METHOD:PUBLISH
X-WR-TIMEZONE:America/Chicago
PRODID:-//Hold My Ticket.//HMT Web App//EN
CALSCALE:GREGORIAN
METHOD:PUBLISH
X-WR-CALNAME:Luckenbach Texas
X-WR-CALDESC:Upcoming events at Luckenbach Texas
BEGIN:VTIMEZONE
TZID:America/Chicago 
END:VTIMEZONE
BEGIN:VEVENT
SEQUENCE:2
TRANSP:OPAQUE
UID:9768f0d4b2dcef7fff77cd2bde37e1fa
DTSTART:20260502T123000
DTSTAMP:20260328T122922Z
SUMMARY:19th Annual Thomas Michael Riley's Music Festival
DESCRIPTION:
CREATED:20260328T122922Z
URL;VALUE=URI:http://holdmyticket.com/event/458394 

DTEND:20260502T223000
END:VEVENT
END:VCALENDAR