BEGIN:VCALENDAR
METHOD:PUBLISH
X-WR-TIMEZONE:America/Denver
PRODID:-//Hold My Ticket.//HMT Web App//EN
CALSCALE:GREGORIAN
METHOD:PUBLISH
X-WR-CALNAME:The Bridge at Santa Fe Brewing (Indoor)
X-WR-CALDESC:Upcoming events at The Bridge at Santa Fe Brewing (Indoor)
BEGIN:VTIMEZONE
TZID:America/Denver 
END:VTIMEZONE
BEGIN:VEVENT
SEQUENCE:2
TRANSP:OPAQUE
UID:c22f884be614ff6b96effcc93468be64
DTSTART:20260503T193000
DTSTAMP:20260401T091306Z
SUMMARY:Novalima
DESCRIPTION:
CREATED:20260401T091306Z
URL;VALUE=URI:http://holdmyticket.com/event/458415 

DTEND:20260503T230000
END:VEVENT
END:VCALENDAR