BEGIN:VCALENDAR
METHOD:PUBLISH
X-WR-TIMEZONE:America/New_York
PRODID:-//Hold My Ticket.//HMT Web App//EN
CALSCALE:GREGORIAN
METHOD:PUBLISH
X-WR-CALNAME:Thirsty Cowboy
X-WR-CALDESC:Upcoming events at Thirsty Cowboy
BEGIN:VTIMEZONE
TZID:America/New_York 
END:VTIMEZONE
BEGIN:VEVENT
SEQUENCE:2
TRANSP:OPAQUE
UID:6930169f71308f79cfa5b688b955caac
DTSTART:20260425T150000
DTSTAMP:20260323T141900Z
SUMMARY:HIGHLAND BUZZARDS 6TH ANNUAL RUGBY FUNDRAISER 
DESCRIPTION:
CREATED:20260323T141900Z
URL;VALUE=URI:http://holdmyticket.com/event/458438 

DTEND:20260425T190000
END:VEVENT
END:VCALENDAR