BEGIN:VCALENDAR
METHOD:PUBLISH
X-WR-TIMEZONE:America/Denver
PRODID:-//Hold My Ticket.//HMT Web App//EN
CALSCALE:GREGORIAN
METHOD:PUBLISH
X-WR-CALNAME:Twilight Cafe and Bar
X-WR-CALDESC:Upcoming events at Twilight Cafe and Bar
BEGIN:VTIMEZONE
TZID:America/Denver 
END:VTIMEZONE
BEGIN:VEVENT
SEQUENCE:2
TRANSP:OPAQUE
UID:3421453b9a5c65751d7a5e4da1f2ac52
DTSTART:20260516T200000
DTSTAMP:20260215T184446Z
SUMMARY:4th Annual Joey Ramone Birthday Bash! w/ The Beat-On Brats, Lobotomen, Latinum
DESCRIPTION:
CREATED:20260215T184446Z
URL;VALUE=URI:http://holdmyticket.com/event/458487 

DTEND:20260516T234500
END:VEVENT
END:VCALENDAR