BEGIN:VCALENDAR
METHOD:PUBLISH
X-WR-TIMEZONE:America/Denver
PRODID:-//Hold My Ticket.//HMT Web App//EN
CALSCALE:GREGORIAN
METHOD:PUBLISH
X-WR-CALNAME:The Oriental Theater
X-WR-CALDESC:Upcoming events at The Oriental Theater
BEGIN:VTIMEZONE
TZID:America/Denver 
END:VTIMEZONE
BEGIN:VEVENT
SEQUENCE:2
TRANSP:OPAQUE
UID:4c63af44c100b6460088c50f23013b1f
DTSTART:20260612T193000
DTSTAMP:20260220T145502Z
SUMMARY:Rockstar Pole Fitness Presents: Strange Disco
DESCRIPTION:
CREATED:20260220T145502Z
URL;VALUE=URI:http://holdmyticket.com/event/458495 

DTEND:20260612T220000
END:VEVENT
END:VCALENDAR