BEGIN:VCALENDAR
METHOD:PUBLISH
X-WR-TIMEZONE:America/Denver
PRODID:-//Hold My Ticket.//HMT Web App//EN
CALSCALE:GREGORIAN
METHOD:PUBLISH
X-WR-CALNAME:Twilight Cafe and Bar
X-WR-CALDESC:Upcoming events at Twilight Cafe and Bar
BEGIN:VTIMEZONE
TZID:America/Denver 
END:VTIMEZONE
BEGIN:VEVENT
SEQUENCE:2
TRANSP:OPAQUE
UID:53350550b12f78b8d72c49a40be4d541
DTSTART:20260628T200000
DTSTAMP:20260217T175759Z
SUMMARY:Against All Authority w/ Half Past Two, Distorted Times
DESCRIPTION:
CREATED:20260217T175759Z
URL;VALUE=URI:http://holdmyticket.com/event/458612 

DTEND:20260628T234500
END:VEVENT
END:VCALENDAR