BEGIN:VCALENDAR
METHOD:PUBLISH
X-WR-TIMEZONE:America/Denver
PRODID:-//Hold My Ticket.//HMT Web App//EN
CALSCALE:GREGORIAN
METHOD:PUBLISH
X-WR-CALNAME:El Rey
X-WR-CALDESC:Upcoming events at El Rey
BEGIN:VTIMEZONE
TZID:America/Denver 
END:VTIMEZONE
BEGIN:VEVENT
SEQUENCE:2
TRANSP:OPAQUE
UID:6d03aeaece877c74a84b6982b22d15a4
DTSTART:20260919T200000
DTSTAMP:20260327T031848Z
SUMMARY:Built To Spill 
DESCRIPTION:* Built To Spill * Paul Schalda *

Saturday, September 19, 2026
Doors 7pm | Show 8pm
El Rey Theater 
ABQ NM 
all ages 

Advance tickets - $32 + service charge
Ticket prices may increase day of show
CREATED:20260327T031848Z
URL;VALUE=URI:http://holdmyticket.com/event/458759 

DTEND:20260919T230000
END:VEVENT
END:VCALENDAR