BEGIN:VCALENDAR
METHOD:PUBLISH
X-WR-TIMEZONE:America/Denver
PRODID:-//Hold My Ticket.//HMT Web App//EN
CALSCALE:GREGORIAN
METHOD:PUBLISH
X-WR-CALNAME:Insideout
X-WR-CALDESC:Upcoming events at Insideout
BEGIN:VTIMEZONE
TZID:America/Denver 
END:VTIMEZONE
BEGIN:VEVENT
SEQUENCE:2
TRANSP:OPAQUE
UID:4d33bda57178e55052c7cc0f6c94ddf2
DTSTART:20260423T200000
DTSTAMP:20260401T131129Z
SUMMARY:Funeral Process * Future Club * Unnatural Element * DJ K.OSS
DESCRIPTION:
CREATED:20260401T131129Z
URL;VALUE=URI:http://holdmyticket.com/event/458926 

DTEND:20260423T234500
END:VEVENT
END:VCALENDAR