BEGIN:VCALENDAR
METHOD:PUBLISH
X-WR-TIMEZONE:America/Denver
PRODID:-//Hold My Ticket.//HMT Web App//EN
CALSCALE:GREGORIAN
METHOD:PUBLISH
X-WR-CALNAME:San Miguel Chapel
X-WR-CALDESC:Upcoming events at San Miguel Chapel
BEGIN:VTIMEZONE
TZID:America/Denver 
END:VTIMEZONE
BEGIN:VEVENT
SEQUENCE:2
TRANSP:OPAQUE
UID:e3d7f34b87dd72d6ff49f94824d3bf12
DTSTART:20260718T193000
DTSTAMP:20260403T123349Z
SUMMARY:Mary Gauthier
DESCRIPTION:As she has so eloquently accomplished over the past 25 years, acclaimed singer- songwriter Mary Gauthier has used her art once again to traverse the uncharted waters of the past few years. "I'm the kind of songwriter who writes what I see in the world right now," she affirms. Thankfully, amid dark storms of pandemic loss, she found and followed the beacon of new love: Her gift to us, the powerful Dark Enough to See the Stars, collects ten sparkling jewels of Gauthier songcraft reflecting both love and loss. 
CREATED:20260403T123349Z
URL;VALUE=URI:http://holdmyticket.com/event/459307 

DTEND:20260718T213000
END:VEVENT
END:VCALENDAR