BEGIN:VCALENDAR
METHOD:PUBLISH
X-WR-TIMEZONE:America/Denver
PRODID:-//Hold My Ticket.//HMT Web App//EN
CALSCALE:GREGORIAN
METHOD:PUBLISH
X-WR-CALNAME:Meow Wolf
X-WR-CALDESC:Upcoming events at Meow Wolf
BEGIN:VTIMEZONE
TZID:America/Denver 
END:VTIMEZONE
BEGIN:VEVENT
SEQUENCE:2
TRANSP:OPAQUE
UID:d464d1e8bd39d71a685805ff345f2390
DTSTART:20261110T203000
DTSTAMP:20260421T100547Z
SUMMARY:Bayonne
DESCRIPTION:
CREATED:20260421T100547Z
URL;VALUE=URI:http://holdmyticket.com/event/459361 

DTEND:20261110T234500
END:VEVENT
END:VCALENDAR