BEGIN:VCALENDAR
METHOD:PUBLISH
X-WR-TIMEZONE:America/Denver
PRODID:-//Hold My Ticket.//HMT Web App//EN
CALSCALE:GREGORIAN
METHOD:PUBLISH
X-WR-CALNAME:The Federal Theatre
X-WR-CALDESC:Upcoming events at The Federal Theatre
BEGIN:VTIMEZONE
TZID:America/Denver 
END:VTIMEZONE
BEGIN:VEVENT
SEQUENCE:2
TRANSP:OPAQUE
UID:350972870ef68ced3787e5cbf42512e7
DTSTART:20260507T200000
DTSTAMP:20260310T113339Z
SUMMARY:Leftöver Crack
DESCRIPTION:
CREATED:20260310T113339Z
URL;VALUE=URI:http://holdmyticket.com/event/459377 

DTEND:20260507T230000
END:VEVENT
END:VCALENDAR