BEGIN:VCALENDAR
METHOD:PUBLISH
X-WR-TIMEZONE:America/Denver
PRODID:-//Hold My Ticket.//HMT Web App//EN
CALSCALE:GREGORIAN
METHOD:PUBLISH
X-WR-CALNAME:The Dirty Bourbon, Dance Hall & Saloon
X-WR-CALDESC:Upcoming events at The Dirty Bourbon, Dance Hall & Saloon
BEGIN:VTIMEZONE
TZID:America/Denver 
END:VTIMEZONE
BEGIN:VEVENT
SEQUENCE:2
TRANSP:OPAQUE
UID:6d151ca6bc38079ae340def8b500f3dc
DTSTART:20260801T210000
DTSTAMP:20260304T134235Z
SUMMARY:Reece Gustafson
DESCRIPTION:
CREATED:20260304T134235Z
URL;VALUE=URI:http://holdmyticket.com/event/459448 

DTEND:20260802T020000
END:VEVENT
END:VCALENDAR