BEGIN:VCALENDAR
METHOD:PUBLISH
X-WR-TIMEZONE:America/Los_Angeles
PRODID:-//Hold My Ticket.//HMT Web App//EN
CALSCALE:GREGORIAN
METHOD:PUBLISH
X-WR-CALNAME:The Big Dipper
X-WR-CALDESC:Upcoming events at The Big Dipper
BEGIN:VTIMEZONE
TZID:America/Los_Angeles 
END:VTIMEZONE
BEGIN:VEVENT
SEQUENCE:2
TRANSP:OPAQUE
UID:857ec2871bb5425c41ff697a25804364
DTSTART:20260425T193000
DTSTAMP:20260305T022916Z
SUMMARY:Wil E. Haze
DESCRIPTION:
CREATED:20260305T022916Z
URL;VALUE=URI:http://holdmyticket.com/event/459501 

DTEND:20260425T230000
END:VEVENT
END:VCALENDAR