BEGIN:VCALENDAR
METHOD:PUBLISH
X-WR-TIMEZONE:America/Denver
PRODID:-//Hold My Ticket.//HMT Web App//EN
CALSCALE:GREGORIAN
METHOD:PUBLISH
X-WR-CALNAME:HQ
X-WR-CALDESC:Upcoming events at HQ
BEGIN:VTIMEZONE
TZID:America/Denver 
END:VTIMEZONE
BEGIN:VEVENT
SEQUENCE:2
TRANSP:OPAQUE
UID:a2e204441d264020229ca11fdd994da1
DTSTART:20260807T190000
DTSTAMP:20260305T104431Z
SUMMARY:DED
DESCRIPTION:
CREATED:20260305T104431Z
URL;VALUE=URI:http://holdmyticket.com/event/459508 

DTEND:20260807T230000
END:VEVENT
END:VCALENDAR