BEGIN:VCALENDAR
METHOD:PUBLISH
X-WR-TIMEZONE:America/Denver
PRODID:-//Hold My Ticket.//HMT Web App//EN
CALSCALE:GREGORIAN
METHOD:PUBLISH
X-WR-CALNAME:The Box Performance Space
X-WR-CALDESC:Upcoming events at The Box Performance Space
BEGIN:VTIMEZONE
TZID:America/Denver 
END:VTIMEZONE
BEGIN:VEVENT
SEQUENCE:2
TRANSP:OPAQUE
UID:c01d90709d8845380956dd0c9d4bb787
DTSTART:20260423T190000
DTSTAMP:20260409T144953Z
SUMMARY:How the Stars Used to Shine There
DESCRIPTION:
CREATED:20260409T144953Z
URL;VALUE=URI:http://holdmyticket.com/event/459514 

DTEND:20260423T201500
END:VEVENT
END:VCALENDAR