BEGIN:VCALENDAR
METHOD:PUBLISH
X-WR-TIMEZONE:America/New_York
PRODID:-//Hold My Ticket.//HMT Web App//EN
CALSCALE:GREGORIAN
METHOD:PUBLISH
X-WR-CALNAME:Terra Fermata
X-WR-CALDESC:Upcoming events at Terra Fermata
BEGIN:VTIMEZONE
TZID:America/New_York 
END:VTIMEZONE
BEGIN:VEVENT
SEQUENCE:2
TRANSP:OPAQUE
UID:3517affdffd9377d3de554727ac8f412
DTSTART:20260426T190000
DTSTAMP:20260305T163605Z
SUMMARY:LOS MIRLOS
DESCRIPTION:Los Mirlos is a group dedicated to promoting the music and culture of the Peruvian Amazon. Although it was formed in Lima in 1973, its true roots are in Moyobamba, the city where its members were born and began their musical careers.

As pioneers of psychedelic Amazonian cumbia, Los Mirlos have spent 50 years performing worldwide, proudly showcasing the distinctive rhythms of the Peruvian jungle. Today, they are a prominent influence, known for a sound that has evolved and endured through changing musical trends. The group continues to engage a young audience eager to explore new textures and rediscover the origins of this unique genre.
CREATED:20260305T163605Z
URL;VALUE=URI:http://holdmyticket.com/event/459521 

DTEND:20260426T220000
END:VEVENT
END:VCALENDAR