BEGIN:VCALENDAR
METHOD:PUBLISH
X-WR-TIMEZONE:America/New_York
PRODID:-//Hold My Ticket.//HMT Web App//EN
CALSCALE:GREGORIAN
METHOD:PUBLISH
X-WR-CALNAME:Terra Fermata
X-WR-CALDESC:Upcoming events at Terra Fermata
BEGIN:VTIMEZONE
TZID:America/New_York 
END:VTIMEZONE
BEGIN:VEVENT
SEQUENCE:2
TRANSP:OPAQUE
UID:5cbb51f76a17d8e8d521d5458164c954
DTSTART:20260509T190000
DTSTAMP:20260313T144301Z
SUMMARY:GUTTERMOUTH
DESCRIPTION:Advance tickets $28.41 total cost. Formed in Huntington Beach, California in 1988, Guttermouth was heavily influenced by the Southern California punk rock scenes of the 1980s which spawned bands such as the Adolescents, The Vandals, Social Distortion, Fear, Descendents, Angry Samoans, Bad Religion and Black Flag. The band took these influences and developed their own style of fast, punk tempos with humorously sarcastic and offensive lyrics coupled with equally outrageous and offensive behavior, developing a reputation for chaotic live shows.
Guttermouth is the perfect blend of what California-based punk rock is all about, one of the seminal bands in the US skate-punk scene. 
CREATED:20260313T144301Z
URL;VALUE=URI:http://holdmyticket.com/event/459522 

DTEND:20260509T220000
END:VEVENT
END:VCALENDAR