BEGIN:VCALENDAR
METHOD:PUBLISH
X-WR-TIMEZONE:America/New_York
PRODID:-//Hold My Ticket.//HMT Web App//EN
CALSCALE:GREGORIAN
METHOD:PUBLISH
X-WR-CALNAME:Terra Fermata
X-WR-CALDESC:Upcoming events at Terra Fermata
BEGIN:VTIMEZONE
TZID:America/New_York 
END:VTIMEZONE
BEGIN:VEVENT
SEQUENCE:2
TRANSP:OPAQUE
UID:0452ca8d9a28f2607188a41fe5470e95
DTSTART:20260410T190000
DTSTAMP:20260305T165233Z
SUMMARY:THE CHILI POPPERS
DESCRIPTION:Advance tickets $22.42 total cost. 
🔥🌶️ The Chili Poppers: Tribute to the Red Hot Chili Peppers - Double Full Album Show! 🌶️🔥
Get ready, Stuart! On Friday, April 10th, Cosmic Barley presents: The Chili Poppers returning to Terra Fermata for a special double full-album performance celebrating two of the most iconic records of the '90s and 2000s.
This is more than a tribute show -- it's a full-on, front-to-back experience of the albums that defined a generation.
🎸 Set One: Blood Sugar Sex Magik (performed in its entirety)
🎶 Set Two: Californication (performed in its entirety)
From the raw funk explosion of "Give It Away" and "Suck My Kiss" to the soaring anthems "Scar Tissue," "Otherside," and "Californication," you'll hear every track, exactly as you remember it -- performed live with the energy, musicianship, and spirit of the Red Hot Chili Peppers at their peak.
📍 Terra Fermata - Stuart, FL
📅 Friday, April 10th
⏰ Showtime: 7:00PM - 10:00PM
Two legendary albums. One unforgettable night.
Grab your crew, bring your 90s energy, and get ready to dance, sing, and relive the magic.
This is the ultimate Chili Peppers album experience -- don't miss it! 🌴🔥 
CREATED:20260305T165233Z
URL;VALUE=URI:http://holdmyticket.com/event/459523 

DTEND:20260410T220000
END:VEVENT
END:VCALENDAR