BEGIN:VCALENDAR
METHOD:PUBLISH
X-WR-TIMEZONE:America/Denver
PRODID:-//Hold My Ticket.//HMT Web App//EN
CALSCALE:GREGORIAN
METHOD:PUBLISH
X-WR-CALNAME:Central & Unser Library
X-WR-CALDESC:Upcoming events at Central & Unser Library
BEGIN:VTIMEZONE
TZID:America/Denver 
END:VTIMEZONE
BEGIN:VEVENT
SEQUENCE:2
TRANSP:OPAQUE
UID:f5fa12412a33a24cffa46e3a197713bb
DTSTART:20260423T170000
DTSTAMP:20260328T095159Z
SUMMARY:Los Radiators
DESCRIPTION:Albuquerque-based band Los Radiators has been playing acoustic variety music in central New Mexico for a few decades. Our super-sized repertoire includes jazz, blues, folk, Motown, country, and world music. Abby Maxwell fronts the band on vocals, hand-percussion, and vocalese coronet. Abby was #11 of 11 kids in a musical family with multicultural roots from Newport, RI.  She cut her teeth in musical theater (Boston) and soul and blues (Chicago & San Diego). Rick Dorin plays fingerstyle acoustic and electric guitars. He was born and raised in San Francisco Bay Area and is a wilderness enthusiast and professor of endocrinology. Abby & Rick also perform with local Motown, jazz, and oldies dance band SWAG.
CREATED:20260328T095159Z
URL;VALUE=URI:http://holdmyticket.com/event/459545 

DTEND:20260423T180000
END:VEVENT
END:VCALENDAR