BEGIN:VCALENDAR
METHOD:PUBLISH
X-WR-TIMEZONE:America/Denver
PRODID:-//Hold My Ticket.//HMT Web App//EN
CALSCALE:GREGORIAN
METHOD:PUBLISH
X-WR-CALNAME:Lensic Performing Arts Center 
X-WR-CALDESC:Upcoming events at Lensic Performing Arts Center 
BEGIN:VTIMEZONE
TZID:America/Denver 
END:VTIMEZONE
BEGIN:VEVENT
SEQUENCE:2
TRANSP:OPAQUE
UID:6418e099b15f2fb662f7029cc5019f56
DTSTART:20260422T193000
DTSTAMP:20260317T094041Z
SUMMARY:Hannibal Buress
DESCRIPTION:
CREATED:20260317T094041Z
URL;VALUE=URI:http://holdmyticket.com/event/459862 

DTEND:20260422T230000
END:VEVENT
END:VCALENDAR