BEGIN:VCALENDAR
METHOD:PUBLISH
X-WR-TIMEZONE:America/Denver
PRODID:-//Hold My Ticket.//HMT Web App//EN
CALSCALE:GREGORIAN
METHOD:PUBLISH
X-WR-CALNAME:HQ
X-WR-CALDESC:Upcoming events at HQ
BEGIN:VTIMEZONE
TZID:America/Denver 
END:VTIMEZONE
BEGIN:VEVENT
SEQUENCE:2
TRANSP:OPAQUE
UID:c1024925b7d3c40de1c3b6a73f4eb9bc
DTSTART:20260617T200000
DTSTAMP:20260310T144535Z
SUMMARY:Bob Log III
DESCRIPTION:
CREATED:20260310T144535Z
URL;VALUE=URI:http://holdmyticket.com/event/459863 

DTEND:20260617T230000
END:VEVENT
END:VCALENDAR