BEGIN:VCALENDAR
METHOD:PUBLISH
X-WR-TIMEZONE:America/Los_Angeles
PRODID:-//Hold My Ticket.//HMT Web App//EN
CALSCALE:GREGORIAN
METHOD:PUBLISH
X-WR-CALNAME:The Big Dipper
X-WR-CALDESC:Upcoming events at The Big Dipper
BEGIN:VTIMEZONE
TZID:America/Los_Angeles 
END:VTIMEZONE
BEGIN:VEVENT
SEQUENCE:2
TRANSP:OPAQUE
UID:012b04153a0d548cc4211c51dc910547
DTSTART:20260508T193000
DTSTAMP:20260309T110046Z
SUMMARY:palettes
DESCRIPTION:
CREATED:20260309T110046Z
URL;VALUE=URI:http://holdmyticket.com/event/459896 

DTEND:20260508T223000
END:VEVENT
END:VCALENDAR