BEGIN:VCALENDAR
METHOD:PUBLISH
X-WR-TIMEZONE:America/Denver
PRODID:-//Hold My Ticket.//HMT Web App//EN
CALSCALE:GREGORIAN
METHOD:PUBLISH
X-WR-CALNAME:Twilight Cafe and Bar
X-WR-CALDESC:Upcoming events at Twilight Cafe and Bar
BEGIN:VTIMEZONE
TZID:America/Denver 
END:VTIMEZONE
BEGIN:VEVENT
SEQUENCE:2
TRANSP:OPAQUE
UID:6eb5cf3321741d8255a09b452f1d5f3f
DTSTART:20260709T200000
DTSTAMP:20260308T223843Z
SUMMARY:Star Chamber w/ A Murder of One (LA) w/ Trans Panic
DESCRIPTION:
CREATED:20260308T223843Z
URL;VALUE=URI:http://holdmyticket.com/event/459909 

DTEND:20260709T234500
END:VEVENT
END:VCALENDAR