BEGIN:VCALENDAR
METHOD:PUBLISH
X-WR-TIMEZONE:America/Denver
PRODID:-//Hold My Ticket.//HMT Web App//EN
CALSCALE:GREGORIAN
METHOD:PUBLISH
X-WR-CALNAME:EL REY THEATER
X-WR-CALDESC:Upcoming events at EL REY THEATER
BEGIN:VTIMEZONE
TZID:America/Denver 
END:VTIMEZONE
BEGIN:VEVENT
SEQUENCE:2
TRANSP:OPAQUE
UID:2b45b8654c3c69926c0f73ea8916e9c3
DTSTART:20260613T190000
DTSTAMP:20260331T100028Z
SUMMARY:Earl Sweatshirt & MIKE
DESCRIPTION:
CREATED:20260331T100028Z
URL;VALUE=URI:http://holdmyticket.com/event/459916 

DTEND:20260614T000000
END:VEVENT
END:VCALENDAR