BEGIN:VCALENDAR
METHOD:PUBLISH
X-WR-TIMEZONE:America/Chicago
PRODID:-//Hold My Ticket.//HMT Web App//EN
CALSCALE:GREGORIAN
METHOD:PUBLISH
X-WR-CALNAME:The Railhouse
X-WR-CALDESC:Upcoming events at The Railhouse
BEGIN:VTIMEZONE
TZID:America/Chicago 
END:VTIMEZONE
BEGIN:VEVENT
SEQUENCE:2
TRANSP:OPAQUE
UID:c7ecacbaee3929081c0c491611411e29
DTSTART:20260424T200000
DTSTAMP:20260309T111802Z
SUMMARY:Taking Back Tacos
DESCRIPTION:
CREATED:20260309T111802Z
URL;VALUE=URI:http://holdmyticket.com/event/459937 

DTEND:20260424T234500
END:VEVENT
END:VCALENDAR