BEGIN:VCALENDAR
METHOD:PUBLISH
X-WR-TIMEZONE:America/New_York
PRODID:-//Hold My Ticket.//HMT Web App//EN
CALSCALE:GREGORIAN
METHOD:PUBLISH
X-WR-CALNAME:Terra Fermata
X-WR-CALDESC:Upcoming events at Terra Fermata
BEGIN:VTIMEZONE
TZID:America/New_York 
END:VTIMEZONE
BEGIN:VEVENT
SEQUENCE:2
TRANSP:OPAQUE
UID:dc8cd792782b5cf8477c1826830f50e3
DTSTART:20260524T180000
DTSTAMP:20260311T114135Z
SUMMARY:SPIRAL LIGHT - Gratful Sunday - Special Guest BILLY GILMORE
DESCRIPTION:$10 advance, $15 door. As Jerry said, "Never miss a Sunday show" Doors open 5pm, Show 6-9pm.
CREATED:20260311T114135Z
URL;VALUE=URI:http://holdmyticket.com/event/459940 

DTEND:20260524T210000
END:VEVENT
END:VCALENDAR