BEGIN:VCALENDAR
METHOD:PUBLISH
X-WR-TIMEZONE:America/Denver
PRODID:-//Hold My Ticket.//HMT Web App//EN
CALSCALE:GREGORIAN
METHOD:PUBLISH
X-WR-CALNAME:The Delorean
X-WR-CALDESC:Upcoming events at The Delorean
BEGIN:VTIMEZONE
TZID:America/Denver 
END:VTIMEZONE
BEGIN:VEVENT
SEQUENCE:2
TRANSP:OPAQUE
UID:635ccd2d782945da95858a4b15c67f17
DTSTART:20260502T210000
DTSTAMP:20260309T135730Z
SUMMARY:It's On Like Donkey Kong
DESCRIPTION:
CREATED:20260309T135730Z
URL;VALUE=URI:http://holdmyticket.com/event/459946 

DTEND:20260503T003000
END:VEVENT
END:VCALENDAR