BEGIN:VCALENDAR
METHOD:PUBLISH
X-WR-TIMEZONE:America/Denver
PRODID:-//Hold My Ticket.//HMT Web App//EN
CALSCALE:GREGORIAN
METHOD:PUBLISH
X-WR-CALNAME:The Oriental Theater
X-WR-CALDESC:Upcoming events at The Oriental Theater
BEGIN:VTIMEZONE
TZID:America/Denver 
END:VTIMEZONE
BEGIN:VEVENT
SEQUENCE:2
TRANSP:OPAQUE
UID:620dd134a04af08c6241838685690e5b
DTSTART:20260523T200000
DTSTAMP:20260408T150031Z
SUMMARY:Screeching Weasel
DESCRIPTION:
CREATED:20260408T150031Z
URL;VALUE=URI:http://holdmyticket.com/event/459964 

DTEND:20260523T230000
END:VEVENT
END:VCALENDAR