BEGIN:VCALENDAR
METHOD:PUBLISH
X-WR-TIMEZONE:America/Denver
PRODID:-//Hold My Ticket.//HMT Web App//EN
CALSCALE:GREGORIAN
METHOD:PUBLISH
X-WR-CALNAME:Main Library (Santa Fe)
X-WR-CALDESC:Upcoming events at Main Library (Santa Fe)
BEGIN:VTIMEZONE
TZID:America/Denver 
END:VTIMEZONE
BEGIN:VEVENT
SEQUENCE:2
TRANSP:OPAQUE
UID:b48f562deb8d18eca03d3c808c95e4fa
DTSTART:20260611T173000
DTSTAMP:20260309T174838Z
SUMMARY:Wendy Rule
DESCRIPTION:Part of the Santa Fe Library's Summer Reading program! Unearth a Story at Santa Fe Public Library this Summer!

Blurring the line between music, theatre, and ritual, Visionary Songstress Wendy Rule weaves her dark-ambient mystical songs along pathways of Magic and mythology. With her extraordinary voice and heartfelt lyrics, she invites her audience on an immersive journey of depth and passion.
CREATED:20260309T174838Z
URL;VALUE=URI:http://holdmyticket.com/event/459969 

DTEND:20260611T183000
END:VEVENT
END:VCALENDAR