BEGIN:VCALENDAR
METHOD:PUBLISH
X-WR-TIMEZONE:America/Denver
PRODID:-//Hold My Ticket.//HMT Web App//EN
CALSCALE:GREGORIAN
METHOD:PUBLISH
X-WR-CALNAME:Popejoy Hall
X-WR-CALDESC:Upcoming events at Popejoy Hall
BEGIN:VTIMEZONE
TZID:America/Denver 
END:VTIMEZONE
BEGIN:VEVENT
SEQUENCE:2
TRANSP:OPAQUE
UID:d3dffa8450d3d9b84388575256289626
DTSTART:20261119T180000
DTSTAMP:20260312T095705Z
SUMMARY:Bluey's Big Play
DESCRIPTION:
CREATED:20260312T095705Z
URL;VALUE=URI:http://holdmyticket.com/event/459977 

DTEND:20261119T210000
END:VEVENT
END:VCALENDAR