BEGIN:VCALENDAR
METHOD:PUBLISH
X-WR-TIMEZONE:America/Denver
PRODID:-//Hold My Ticket.//HMT Web App//EN
CALSCALE:GREGORIAN
METHOD:PUBLISH
X-WR-CALNAME:Main Library (Santa Fe)
X-WR-CALDESC:Upcoming events at Main Library (Santa Fe)
BEGIN:VTIMEZONE
TZID:America/Denver 
END:VTIMEZONE
BEGIN:VEVENT
SEQUENCE:2
TRANSP:OPAQUE
UID:3dd945a384be9c75291128a320b2cbaa
DTSTART:20260620T110000
DTSTAMP:20260310T123015Z
SUMMARY:Andy Mason
DESCRIPTION:Andy Mason, award-winning New Mexico children's musician, will have kids and families dancing and singing along to songs about pizza, pirates, sharks, and more, in English and Spanish!
CREATED:20260310T123015Z
URL;VALUE=URI:http://holdmyticket.com/event/459992 

DTEND:20260620T120000
END:VEVENT
END:VCALENDAR