BEGIN:VCALENDAR
METHOD:PUBLISH
X-WR-TIMEZONE:America/Denver
PRODID:-//Hold My Ticket.//HMT Web App//EN
CALSCALE:GREGORIAN
METHOD:PUBLISH
X-WR-CALNAME:Southside Library
X-WR-CALDESC:Upcoming events at Southside Library
BEGIN:VTIMEZONE
TZID:America/Denver 
END:VTIMEZONE
BEGIN:VEVENT
SEQUENCE:2
TRANSP:OPAQUE
UID:77fdcc97f394f5b9e2fa310846b13d1d
DTSTART:20260620T140000
DTSTAMP:20260310T123142Z
SUMMARY:Andy Mason
DESCRIPTION:Andy Mason, award-winning New Mexico children's musician, will have kids and families dancing and singing along to songs about pizza, pirates, sharks, and more, in English and Spanish!
CREATED:20260310T123142Z
URL;VALUE=URI:http://holdmyticket.com/event/459993 

DTEND:20260620T153000
END:VEVENT
END:VCALENDAR