BEGIN:VCALENDAR
METHOD:PUBLISH
X-WR-TIMEZONE:America/Denver
PRODID:-//Hold My Ticket.//HMT Web App//EN
CALSCALE:GREGORIAN
METHOD:PUBLISH
X-WR-CALNAME:Southside Library
X-WR-CALDESC:Upcoming events at Southside Library
BEGIN:VTIMEZONE
TZID:America/Denver 
END:VTIMEZONE
BEGIN:VEVENT
SEQUENCE:2
TRANSP:OPAQUE
UID:dfde824e67cd22a7b42b3016d8dfacd8
DTSTART:20260801T140000
DTSTAMP:20260310T123927Z
SUMMARY:Scott and Johanna Hongell-Darsee
DESCRIPTION:Scott and Johanna Hongell-Darsee are a duo who perform early traditional Scandinavian/Celtic ballads and tales. Their wanderings have led them from Finland and Iowa, respectively, through Europe, Scandinavia, India, and the U.S. On the way they have picked up tales and songs that they perform together with the stories behind them, in particular exploring the links between Scandinavian, Celtic, North American, and other story singing traditions.
CREATED:20260310T123927Z
URL;VALUE=URI:http://holdmyticket.com/event/459994 

DTEND:20260801T153000
END:VEVENT
END:VCALENDAR