BEGIN:VCALENDAR
METHOD:PUBLISH
X-WR-TIMEZONE:America/Chicago
PRODID:-//Hold My Ticket.//HMT Web App//EN
CALSCALE:GREGORIAN
METHOD:PUBLISH
X-WR-CALNAME:Luckenbach Texas
X-WR-CALDESC:Upcoming events at Luckenbach Texas
BEGIN:VTIMEZONE
TZID:America/Chicago 
END:VTIMEZONE
BEGIN:VEVENT
SEQUENCE:2
TRANSP:OPAQUE
UID:f9a71f7456b3aa1607760493d053ffd8
DTSTART:20260426T170000
DTSTAMP:20260407T140322Z
SUMMARY:Jake McLain
DESCRIPTION:
CREATED:20260407T140322Z
URL;VALUE=URI:http://holdmyticket.com/event/460035 

DTEND:20260426T210000
END:VEVENT
END:VCALENDAR