BEGIN:VCALENDAR
METHOD:PUBLISH
X-WR-TIMEZONE:America/Denver
PRODID:-//Hold My Ticket.//HMT Web App//EN
CALSCALE:GREGORIAN
METHOD:PUBLISH
X-WR-CALNAME:The Oriental Theater
X-WR-CALDESC:Upcoming events at The Oriental Theater
BEGIN:VTIMEZONE
TZID:America/Denver 
END:VTIMEZONE
BEGIN:VEVENT
SEQUENCE:2
TRANSP:OPAQUE
UID:a024bebbc2fcd76b15d8fe7a1c4f0ac0
DTSTART:20260501T193000
DTSTAMP:20260311T100029Z
SUMMARY:The Pulp MX Show - Live! 
DESCRIPTION:
CREATED:20260311T100029Z
URL;VALUE=URI:http://holdmyticket.com/event/460039 

DTEND:20260501T220000
END:VEVENT
END:VCALENDAR